BEGIN:VCALENDAR
VERSION:2.0
PRODID:KKTIX
CALSCALE:GREGORIAN
METHOD:PUBLISH
BEGIN:VTIMEZONE
TZID:Asia/Taipei
END:VTIMEZONE
BEGIN:VEVENT
DTSTAMP:20260423T124110Z
UID:e4ffa152-3d78-4500-937d-607f12d3b694
DTSTART:20260530T100000Z
DTEND:20260530T100000Z
CLASS:PUBLIC
DESCRIPTION:https://daydreamerstudio.kktix.cc/events/akidf2
LOCATION: (新北市五股區五權路1號) 新北工商展覽中心
SUMMARY:【5/30場次】2026 DONGHAE 1ST SOLO CONCERT TOUR [ALIVE] in TAIPE
 I
END:VEVENT
END:VCALENDAR
