BEGIN:VCALENDAR
VERSION:2.0
PRODID:KKTIX
CALSCALE:GREGORIAN
METHOD:PUBLISH
BEGIN:VTIMEZONE
TZID:Asia/Taipei
END:VTIMEZONE
BEGIN:VEVENT
DTSTAMP:20260423T073259Z
UID:d27c740d-f113-4e6a-924d-06aa767fc7a9
DTSTART:20260531T080000Z
DTEND:20260531T080000Z
CLASS:PUBLIC
DESCRIPTION:https://daydreamerstudio.kktix.cc/events/akidf5
LOCATION: (新北市五股區五權路1號) 新北工商展覽中心
SUMMARY:【5/31場次】2026 DONGHAE 1ST SOLO CONCERT TOUR [ALIVE] in TAIPE
 I
END:VEVENT
END:VCALENDAR
